BEGIN:VCALENDAR
VERSION:2.0
PRODID:-//Naturstation Fischerkaten - ECPv6.15.20//NONSGML v1.0//EN
CALSCALE:GREGORIAN
METHOD:PUBLISH
X-ORIGINAL-URL:https://naturstation.com
X-WR-CALDESC:Veranstaltungen für Naturstation Fischerkaten
REFRESH-INTERVAL;VALUE=DURATION:PT1H
X-Robots-Tag:noindex
X-PUBLISHED-TTL:PT1H
BEGIN:VTIMEZONE
TZID:Europe/Berlin
BEGIN:DAYLIGHT
TZOFFSETFROM:+0100
TZOFFSETTO:+0200
TZNAME:CEST
DTSTART:20250330T010000
END:DAYLIGHT
BEGIN:STANDARD
TZOFFSETFROM:+0200
TZOFFSETTO:+0100
TZNAME:CET
DTSTART:20251026T010000
END:STANDARD
BEGIN:DAYLIGHT
TZOFFSETFROM:+0100
TZOFFSETTO:+0200
TZNAME:CEST
DTSTART:20260329T010000
END:DAYLIGHT
BEGIN:STANDARD
TZOFFSETFROM:+0200
TZOFFSETTO:+0100
TZNAME:CET
DTSTART:20261025T010000
END:STANDARD
BEGIN:DAYLIGHT
TZOFFSETFROM:+0100
TZOFFSETTO:+0200
TZNAME:CEST
DTSTART:20270328T010000
END:DAYLIGHT
BEGIN:STANDARD
TZOFFSETFROM:+0200
TZOFFSETTO:+0100
TZNAME:CET
DTSTART:20271031T010000
END:STANDARD
END:VTIMEZONE
BEGIN:VEVENT
DTSTART;TZID=Europe/Berlin:20260117T100000
DTEND;TZID=Europe/Berlin:20260117T120000
DTSTAMP:20260425T201840
CREATED:20260102T202826Z
LAST-MODIFIED:20260102T205547Z
UID:2072-1768644000-1768651200@naturstation.com
SUMMARY:Fischerkaten-Treffen
DESCRIPTION:Fischerkaten-Treffen
URL:https://naturstation.com/veranstaltung/fischerkaten-treffen-7/
LOCATION:Naturstation Fischerkaten\, Strandzugang Nr. 5\, Groß Schwansee\, 23942\, Germany
ATTACH;FMTTYPE=application/pdf:https://naturstation.com/wp-content/uploads/2026/01/Fischerkaten-Treffen-2.pdf
END:VEVENT
BEGIN:VEVENT
DTSTART;TZID=Europe/Berlin:20260125T090000
DTEND;TZID=Europe/Berlin:20260125T120000
DTSTAMP:20260425T201840
CREATED:20260102T204506Z
LAST-MODIFIED:20260102T204506Z
UID:2076-1769331600-1769342400@naturstation.com
SUMMARY:Aktionstag für mehr Artenvielfalt
DESCRIPTION:
URL:https://naturstation.com/veranstaltung/aktionstag-fuer-mehr-artenvielfalt/
ATTACH;FMTTYPE=application/pdf:https://naturstation.com/wp-content/uploads/2026/01/Aktionstag_Winterpflege_2026.pdf
END:VEVENT
END:VCALENDAR