BEGIN:VCALENDAR
VERSION:2.0
PRODID:-//Naturstation Fischerkaten - ECPv6.15.20//NONSGML v1.0//EN
CALSCALE:GREGORIAN
METHOD:PUBLISH
X-WR-CALNAME:Naturstation Fischerkaten
X-ORIGINAL-URL:https://naturstation.com
X-WR-CALDESC:Veranstaltungen für Naturstation Fischerkaten
REFRESH-INTERVAL;VALUE=DURATION:PT1H
X-Robots-Tag:noindex
X-PUBLISHED-TTL:PT1H
BEGIN:VTIMEZONE
TZID:Europe/Berlin
BEGIN:DAYLIGHT
TZOFFSETFROM:+0100
TZOFFSETTO:+0200
TZNAME:CEST
DTSTART:20240331T010000
END:DAYLIGHT
BEGIN:STANDARD
TZOFFSETFROM:+0200
TZOFFSETTO:+0100
TZNAME:CET
DTSTART:20241027T010000
END:STANDARD
BEGIN:DAYLIGHT
TZOFFSETFROM:+0100
TZOFFSETTO:+0200
TZNAME:CEST
DTSTART:20250330T010000
END:DAYLIGHT
BEGIN:STANDARD
TZOFFSETFROM:+0200
TZOFFSETTO:+0100
TZNAME:CET
DTSTART:20251026T010000
END:STANDARD
BEGIN:DAYLIGHT
TZOFFSETFROM:+0100
TZOFFSETTO:+0200
TZNAME:CEST
DTSTART:20260329T010000
END:DAYLIGHT
BEGIN:STANDARD
TZOFFSETFROM:+0200
TZOFFSETTO:+0100
TZNAME:CET
DTSTART:20261025T010000
END:STANDARD
END:VTIMEZONE
BEGIN:VEVENT
DTSTART;TZID=Europe/Berlin:20250903T100000
DTEND;TZID=Europe/Berlin:20250903T113000
DTSTAMP:20260426T013248
CREATED:20250808T080533Z
LAST-MODIFIED:20250808T080533Z
UID:2051-1756893600-1756899000@naturstation.com
SUMMARY:Ostsee-Entdecker
DESCRIPTION:
URL:https://naturstation.com/veranstaltung/ostsee-entdecker-8/
LOCATION:Naturstation Fischerkaten\, Strandzugang Nr. 5\, Groß Schwansee\, 23942\, Germany
ATTACH;FMTTYPE=application/pdf:https://naturstation.com/wp-content/uploads/2025/08/Ostseeprogramm25-3.pdf
END:VEVENT
BEGIN:VEVENT
DTSTART;TZID=Europe/Berlin:20250907T100000
DTEND;TZID=Europe/Berlin:20250907T113000
DTSTAMP:20260426T013248
CREATED:20250902T065129Z
LAST-MODIFIED:20250902T070248Z
UID:2055-1757239200-1757244600@naturstation.com
SUMMARY:Strandführung
DESCRIPTION:
URL:https://naturstation.com/veranstaltung/strandfuehrung-8/
LOCATION:Naturstation Fischerkaten\, Strandzugang Nr. 5\, Groß Schwansee\, 23942\, Germany
ATTACH;FMTTYPE=application/pdf:https://naturstation.com/wp-content/uploads/2025/09/Strandfuehrung.pdf
END:VEVENT
BEGIN:VEVENT
DTSTART;TZID=Europe/Berlin:20250914T100000
DTEND;TZID=Europe/Berlin:20250914T113000
DTSTAMP:20260426T013248
CREATED:20250914T064237Z
LAST-MODIFIED:20250914T064237Z
UID:2065-1757844000-1757849400@naturstation.com
SUMMARY:Wildfrüchte-Wanderung fällt aus
DESCRIPTION:
URL:https://naturstation.com/veranstaltung/wildfruechte-wanderung-faellt-aus/
LOCATION:Naturstation Fischerkaten\, Strandzugang Nr. 5\, Groß Schwansee\, 23942\, Germany
END:VEVENT
BEGIN:VEVENT
DTSTART;TZID=Europe/Berlin:20250920T090000
DTEND;TZID=Europe/Berlin:20250920T120000
DTSTAMP:20260426T013248
CREATED:20250902T070616Z
LAST-MODIFIED:20250902T070616Z
UID:2061-1758358800-1758369600@naturstation.com
SUMMARY:Küstenputztag 2025
DESCRIPTION:
URL:https://naturstation.com/veranstaltung/kuestenputztag-2025/
LOCATION:Naturstation Fischerkaten\, Strandzugang Nr. 5\, Groß Schwansee\, 23942\, Germany
ATTACH;FMTTYPE=application/pdf:https://naturstation.com/wp-content/uploads/2025/09/Kuestenputztag_2025.pdf
END:VEVENT
END:VCALENDAR