BEGIN:VCALENDAR
VERSION:2.0
PRODID:-//Naturstation Fischerkaten - ECPv6.15.20//NONSGML v1.0//EN
CALSCALE:GREGORIAN
METHOD:PUBLISH
X-WR-CALNAME:Naturstation Fischerkaten
X-ORIGINAL-URL:https://naturstation.com
X-WR-CALDESC:Veranstaltungen für Naturstation Fischerkaten
REFRESH-INTERVAL;VALUE=DURATION:PT1H
X-Robots-Tag:noindex
X-PUBLISHED-TTL:PT1H
BEGIN:VTIMEZONE
TZID:Europe/Berlin
BEGIN:DAYLIGHT
TZOFFSETFROM:+0100
TZOFFSETTO:+0200
TZNAME:CEST
DTSTART:20240331T010000
END:DAYLIGHT
BEGIN:STANDARD
TZOFFSETFROM:+0200
TZOFFSETTO:+0100
TZNAME:CET
DTSTART:20241027T010000
END:STANDARD
BEGIN:DAYLIGHT
TZOFFSETFROM:+0100
TZOFFSETTO:+0200
TZNAME:CEST
DTSTART:20250330T010000
END:DAYLIGHT
BEGIN:STANDARD
TZOFFSETFROM:+0200
TZOFFSETTO:+0100
TZNAME:CET
DTSTART:20251026T010000
END:STANDARD
BEGIN:DAYLIGHT
TZOFFSETFROM:+0100
TZOFFSETTO:+0200
TZNAME:CEST
DTSTART:20260329T010000
END:DAYLIGHT
BEGIN:STANDARD
TZOFFSETFROM:+0200
TZOFFSETTO:+0100
TZNAME:CET
DTSTART:20261025T010000
END:STANDARD
END:VTIMEZONE
BEGIN:VEVENT
DTSTART;TZID=Europe/Berlin:20250801T100000
DTEND;TZID=Europe/Berlin:20250801T113000
DTSTAMP:20260426T024731
CREATED:20250729T201442Z
LAST-MODIFIED:20250730T052410Z
UID:2016-1754042400-1754047800@naturstation.com
SUMMARY:Meeresexkursion
DESCRIPTION:
URL:https://naturstation.com/veranstaltung/meeresexkursion-2/
LOCATION:Naturstation Fischerkaten\, Strandzugang Nr. 5\, Groß Schwansee\, 23942\, Germany
ATTACH;FMTTYPE=image/png:https://naturstation.com/wp-content/uploads/2025/07/MPA_Day_Meeresexkursion.png
END:VEVENT
BEGIN:VEVENT
DTSTART;TZID=Europe/Berlin:20250801T100000
DTEND;TZID=Europe/Berlin:20250801T170000
DTSTAMP:20260426T024731
CREATED:20250525T192130Z
LAST-MODIFIED:20250729T203602Z
UID:2003-1754042400-1754067600@naturstation.com
SUMMARY:MPA-Day  Internationaler Tag der Meeresschutzgebiete an der Ostsee
DESCRIPTION:Natura 2000-Gebiet Küste Klützer Winkel und Ufer von Dassower See und Trave \nNaturstation Fischerkaten: \n>  10:00 Uhr – 11:30 Uhr: Meeresexkursion – Ostsee-Entdeckungen in und am Meer (ab 11 J.)\nAnmeldung per Mail an: naturstation@web.de\nTeilnahmegebühr: Erwachsene: 8\,- €\, Jugendliche: 6\,- € \n>  14:30 Uhr – 15:30 Uhr: Vortrag:  „Kegelrobben zurück in Mecklenburg-Vorpommern“ \n>  16:00 Uhr – 17:00 Uhr: Mitmachaktion:  „Ruhezone für Robben – Gemeinsam für den Schutz seltener Küstenbewohner
URL:https://naturstation.com/veranstaltung/mpa-day-internationalaer-tag-der-meeresschutzgebiete-an-der-ostsee/
LOCATION:Naturstation Fischerkaten\, Strandzugang Nr. 5\, Groß Schwansee\, 23942\, Germany
ATTACH;FMTTYPE=application/pdf:https://naturstation.com/wp-content/uploads/2025/07/MPA_Day_01.08.2025-2.pdf
END:VEVENT
BEGIN:VEVENT
DTSTART;TZID=Europe/Berlin:20250801T143000
DTEND;TZID=Europe/Berlin:20250801T153000
DTSTAMP:20260426T024731
CREATED:20250729T202022Z
LAST-MODIFIED:20250729T202022Z
UID:2019-1754058600-1754062200@naturstation.com
SUMMARY:Vortrag über Robben
DESCRIPTION:
URL:https://naturstation.com/veranstaltung/vortrag-ueber-robben/
LOCATION:Naturstation Fischerkaten\, Strandzugang Nr. 5\, Groß Schwansee\, 23942\, Germany
ATTACH;FMTTYPE=image/png:https://naturstation.com/wp-content/uploads/2025/07/MPA_Day_Robbenvortrag.png
END:VEVENT
BEGIN:VEVENT
DTSTART;TZID=Europe/Berlin:20250801T160000
DTEND;TZID=Europe/Berlin:20250801T170000
DTSTAMP:20260426T024731
CREATED:20250729T202237Z
LAST-MODIFIED:20250729T202528Z
UID:2022-1754064000-1754067600@naturstation.com
SUMMARY:Mitmachaktion
DESCRIPTION:
URL:https://naturstation.com/veranstaltung/mitmachaktion/
LOCATION:Naturstation Fischerkaten\, Strandzugang Nr. 5\, Groß Schwansee\, 23942\, Germany
ATTACH;FMTTYPE=image/png:https://naturstation.com/wp-content/uploads/2025/07/MPA_Day_Mitmachaktion.png
END:VEVENT
BEGIN:VEVENT
DTSTART;TZID=Europe/Berlin:20250803T100000
DTEND;TZID=Europe/Berlin:20250803T113000
DTSTAMP:20260426T024731
CREATED:20250725T192533Z
LAST-MODIFIED:20250725T195351Z
UID:2008-1754215200-1754220600@naturstation.com
SUMMARY:Strandführung
DESCRIPTION:Strandführungen_Juli_Aug.25
URL:https://naturstation.com/veranstaltung/strandfuehrung-5/
LOCATION:Naturstation Fischerkaten\, Strandzugang Nr. 5\, Groß Schwansee\, 23942\, Germany
ATTACH;FMTTYPE=application/pdf:https://naturstation.com/wp-content/uploads/2025/07/Strandfuehrungen_Juli_Aug.25-2.pdf
END:VEVENT
BEGIN:VEVENT
DTSTART;TZID=Europe/Berlin:20250806T100000
DTEND;TZID=Europe/Berlin:20250806T103000
DTSTAMP:20260426T024731
CREATED:20250729T204848Z
LAST-MODIFIED:20250729T204848Z
UID:2028-1754474400-1754476200@naturstation.com
SUMMARY:Ostsee-Entdecker
DESCRIPTION:
URL:https://naturstation.com/veranstaltung/ostsee-entdecker-4/
LOCATION:Naturstation Fischerkaten\, Strandzugang Nr. 5\, Groß Schwansee\, 23942\, Germany
ATTACH;FMTTYPE=application/pdf:https://naturstation.com/wp-content/uploads/2025/07/Ostseeprogramm25-2.pdf
END:VEVENT
BEGIN:VEVENT
DTSTART;TZID=Europe/Berlin:20250813T100000
DTEND;TZID=Europe/Berlin:20250813T113000
DTSTAMP:20260426T024731
CREATED:20250808T070612Z
LAST-MODIFIED:20250808T072330Z
UID:2032-1755079200-1755084600@naturstation.com
SUMMARY:Ostsee-Entdecker
DESCRIPTION:
URL:https://naturstation.com/veranstaltung/ostsee-entdecker-5/
LOCATION:Naturstation Fischerkaten\, Strandzugang Nr. 5\, Groß Schwansee\, 23942\, Germany
ATTACH;FMTTYPE=application/pdf:https://naturstation.com/wp-content/uploads/2025/08/Ostseeprogramm25.pdf
END:VEVENT
BEGIN:VEVENT
DTSTART;TZID=Europe/Berlin:20250816T100000
DTEND;TZID=Europe/Berlin:20250816T113000
DTSTAMP:20260426T024731
CREATED:20250808T073711Z
LAST-MODIFIED:20250808T074941Z
UID:2035-1755338400-1755343800@naturstation.com
SUMMARY:Fischerkaten-Treffen
DESCRIPTION:
URL:https://naturstation.com/veranstaltung/fischerkaten-treffen-5/
LOCATION:Naturstation Fischerkaten\, Strandzugang Nr. 5\, Groß Schwansee\, 23942\, Germany
ATTACH;FMTTYPE=application/pdf:https://naturstation.com/wp-content/uploads/2025/08/Fischerkaten-Treffen-1.pdf
END:VEVENT
BEGIN:VEVENT
DTSTART;TZID=Europe/Berlin:20250817T100000
DTEND;TZID=Europe/Berlin:20250817T113000
DTSTAMP:20260426T024731
CREATED:20250808T074148Z
LAST-MODIFIED:20250808T074148Z
UID:2039-1755424800-1755430200@naturstation.com
SUMMARY:Strandführung
DESCRIPTION:
URL:https://naturstation.com/veranstaltung/strandfuehrung-6/
LOCATION:Naturstation Fischerkaten\, Strandzugang Nr. 5\, Groß Schwansee\, 23942\, Germany
ATTACH;FMTTYPE=application/pdf:https://naturstation.com/wp-content/uploads/2025/08/Strandfuehrungen_Juli_Aug.25.pdf
END:VEVENT
BEGIN:VEVENT
DTSTART;TZID=Europe/Berlin:20250820T100000
DTEND;TZID=Europe/Berlin:20250820T113000
DTSTAMP:20260426T024731
CREATED:20250808T074709Z
LAST-MODIFIED:20250808T074709Z
UID:2042-1755684000-1755689400@naturstation.com
SUMMARY:Ostsee-Entdecker
DESCRIPTION:
URL:https://naturstation.com/veranstaltung/ostsee-entdecker-6/
LOCATION:Naturstation Fischerkaten\, Strandzugang Nr. 5\, Groß Schwansee\, 23942\, Germany
ATTACH;FMTTYPE=application/pdf:https://naturstation.com/wp-content/uploads/2025/08/Ostseeprogramm25-1.pdf
END:VEVENT
BEGIN:VEVENT
DTSTART;TZID=Europe/Berlin:20250827T100000
DTEND;TZID=Europe/Berlin:20250827T113000
DTSTAMP:20260426T024731
CREATED:20250808T075631Z
LAST-MODIFIED:20250808T075631Z
UID:2045-1756288800-1756294200@naturstation.com
SUMMARY:Ostsee-Entdecker
DESCRIPTION:
URL:https://naturstation.com/veranstaltung/ostsee-entdecker-7/
LOCATION:Naturstation Fischerkaten\, Strandzugang Nr. 5\, Groß Schwansee\, 23942\, Germany
ATTACH;FMTTYPE=application/pdf:https://naturstation.com/wp-content/uploads/2025/08/Ostseeprogramm25-2.pdf
END:VEVENT
BEGIN:VEVENT
DTSTART;TZID=Europe/Berlin:20250831T100000
DTEND;TZID=Europe/Berlin:20250831T113000
DTSTAMP:20260426T024731
CREATED:20250808T080112Z
LAST-MODIFIED:20250808T080112Z
UID:2048-1756634400-1756639800@naturstation.com
SUMMARY:Strandführung
DESCRIPTION:
URL:https://naturstation.com/veranstaltung/strandfuehrung-7/
LOCATION:Naturstation Fischerkaten\, Strandzugang Nr. 5\, Groß Schwansee\, 23942\, Germany
ATTACH;FMTTYPE=application/pdf:https://naturstation.com/wp-content/uploads/2025/08/Strandfuehrungen_Juli_Aug.25-1.pdf
END:VEVENT
END:VCALENDAR