BEGIN:VCALENDAR
VERSION:2.0
PRODID:-//Naturstation Fischerkaten - ECPv6.15.20//NONSGML v1.0//EN
CALSCALE:GREGORIAN
METHOD:PUBLISH
X-ORIGINAL-URL:https://naturstation.com
X-WR-CALDESC:Veranstaltungen für Naturstation Fischerkaten
REFRESH-INTERVAL;VALUE=DURATION:PT1H
X-Robots-Tag:noindex
X-PUBLISHED-TTL:PT1H
BEGIN:VTIMEZONE
TZID:Europe/Berlin
BEGIN:DAYLIGHT
TZOFFSETFROM:+0100
TZOFFSETTO:+0200
TZNAME:CEST
DTSTART:20240331T010000
END:DAYLIGHT
BEGIN:STANDARD
TZOFFSETFROM:+0200
TZOFFSETTO:+0100
TZNAME:CET
DTSTART:20241027T010000
END:STANDARD
BEGIN:DAYLIGHT
TZOFFSETFROM:+0100
TZOFFSETTO:+0200
TZNAME:CEST
DTSTART:20250330T010000
END:DAYLIGHT
BEGIN:STANDARD
TZOFFSETFROM:+0200
TZOFFSETTO:+0100
TZNAME:CET
DTSTART:20251026T010000
END:STANDARD
BEGIN:DAYLIGHT
TZOFFSETFROM:+0100
TZOFFSETTO:+0200
TZNAME:CEST
DTSTART:20260329T010000
END:DAYLIGHT
BEGIN:STANDARD
TZOFFSETFROM:+0200
TZOFFSETTO:+0100
TZNAME:CET
DTSTART:20261025T010000
END:STANDARD
END:VTIMEZONE
BEGIN:VEVENT
DTSTART;TZID=Europe/Berlin:20250701T100000
DTEND;TZID=Europe/Berlin:20250701T113000
DTSTAMP:20260426T053717
CREATED:20250612T071440Z
LAST-MODIFIED:20250612T083806Z
UID:1964-1751364000-1751369400@naturstation.com
SUMMARY:Meeresexkursion
DESCRIPTION:
URL:https://naturstation.com/veranstaltung/meeresexkursion/
LOCATION:Naturstation Fischerkaten\, Strandzugang Nr. 5\, Groß Schwansee\, 23942\, Germany
ATTACH;FMTTYPE=application/pdf:https://naturstation.com/wp-content/uploads/2025/06/Meeresexkursion25.pdf
END:VEVENT
BEGIN:VEVENT
DTSTART;TZID=Europe/Berlin:20250706T100000
DTEND;TZID=Europe/Berlin:20250706T113000
DTSTAMP:20260426T053717
CREATED:20250612T071732Z
LAST-MODIFIED:20250612T122223Z
UID:1967-1751796000-1751801400@naturstation.com
SUMMARY:Strandführung
DESCRIPTION:
URL:https://naturstation.com/veranstaltung/strandfuehrung-4/
LOCATION:Naturstation Fischerkaten\, Strandzugang Nr. 5\, Groß Schwansee\, 23942\, Germany
ATTACH;FMTTYPE=application/pdf:https://naturstation.com/wp-content/uploads/2025/06/Strandfuehrung2.pdf
END:VEVENT
BEGIN:VEVENT
DTSTART;TZID=Europe/Berlin:20250713T100000
DTEND;TZID=Europe/Berlin:20250713T113000
DTSTAMP:20260426T053717
CREATED:20250705T072128Z
LAST-MODIFIED:20250705T072401Z
UID:1981-1752400800-1752406200@naturstation.com
SUMMARY:Kräuter für Frauen
DESCRIPTION:Kräuter_für_Frauen_13.07.2025
URL:https://naturstation.com/veranstaltung/kraeuter-fuer-frauen/
LOCATION:Naturstation Fischerkaten\, Strandzugang Nr. 5\, Groß Schwansee\, 23942\, Germany
ATTACH;FMTTYPE=application/pdf:https://naturstation.com/wp-content/uploads/2025/07/Kraeuter_fuer_Frauen_13.07.2025-1.pdf
END:VEVENT
BEGIN:VEVENT
DTSTART;TZID=Europe/Berlin:20250716T100000
DTEND;TZID=Europe/Berlin:20250716T113000
DTSTAMP:20260426T053717
CREATED:20250612T072232Z
LAST-MODIFIED:20250612T084340Z
UID:1970-1752660000-1752665400@naturstation.com
SUMMARY:Ostsee-Entdecker
DESCRIPTION:
URL:https://naturstation.com/veranstaltung/ostsee-entdecker-2/
LOCATION:Naturstation Fischerkaten\, Strandzugang Nr. 5\, Groß Schwansee\, 23942\, Germany
ATTACH;FMTTYPE=application/pdf:https://naturstation.com/wp-content/uploads/2025/06/Ostseeprogramm25.pdf
END:VEVENT
BEGIN:VEVENT
DTSTART;TZID=Europe/Berlin:20250719T100000
DTEND;TZID=Europe/Berlin:20250719T120000
DTSTAMP:20260426T053717
CREATED:20250710T073501Z
LAST-MODIFIED:20250710T073501Z
UID:1988-1752919200-1752926400@naturstation.com
SUMMARY:Fischerkaten-Treffen
DESCRIPTION:Das monatliche Fischerkaten-Treffen findet anlässlich des Dorf- und Sportfestes\nab 10:00 Uhr am Infostand der Naturstation Fischerkaten (Sportplatzgelände in Kalkhorst) statt.
URL:https://naturstation.com/veranstaltung/fischerkaten-treffen-4/
ATTACH;FMTTYPE=image/png:https://naturstation.com/wp-content/uploads/2020/08/cropped-Naturstation1.png
END:VEVENT
BEGIN:VEVENT
DTSTART;TZID=Europe/Berlin:20250719T140000
DTEND;TZID=Europe/Berlin:20250719T142000
DTSTAMP:20260426T053717
CREATED:20250710T074230Z
LAST-MODIFIED:20250710T074230Z
UID:1990-1752933600-1752934800@naturstation.com
SUMMARY:Kurzvortrag über die Arbeit der Naturstation Fischerkaten
DESCRIPTION:Im Rahmen des Dorf- und Sportfestes Kalkhorst startet um 14:00 Uhr im Festzelt ein Kurzvortrag\nüber die Arbeit der Naturstation Fischerkaten.
URL:https://naturstation.com/veranstaltung/kurzvortrag-ueber-die-arbeit-der-naturstation-fischerkaten/
END:VEVENT
BEGIN:VEVENT
DTSTART;TZID=Europe/Berlin:20250720T100000
DTEND;TZID=Europe/Berlin:20250720T113000
DTSTAMP:20260426T053717
CREATED:20250710T072813Z
LAST-MODIFIED:20250710T072813Z
UID:1985-1753005600-1753011000@naturstation.com
SUMMARY:Strandführungen
DESCRIPTION:
URL:https://naturstation.com/veranstaltung/strandfuehrungen/
LOCATION:Naturstation Fischerkaten\, Strandzugang Nr. 5\, Groß Schwansee\, 23942\, Germany
ATTACH;FMTTYPE=application/pdf:https://naturstation.com/wp-content/uploads/2025/07/Strandfuehrungen_Juli_Aug.25.pdf
END:VEVENT
BEGIN:VEVENT
DTSTART;TZID=Europe/Berlin:20250727T100000
DTEND;TZID=Europe/Berlin:20250727T113000
DTSTAMP:20260426T053717
CREATED:20250710T074932Z
LAST-MODIFIED:20250710T074932Z
UID:1992-1753610400-1753615800@naturstation.com
SUMMARY:Strandführungen
DESCRIPTION:
URL:https://naturstation.com/veranstaltung/strandfuehrungen-2/
LOCATION:Naturstation Fischerkaten\, Strandzugang Nr. 5\, Groß Schwansee\, 23942\, Germany
ATTACH;FMTTYPE=application/pdf:https://naturstation.com/wp-content/uploads/2025/07/Strandfuehrungen_Juli_Aug.25-1.pdf
END:VEVENT
BEGIN:VEVENT
DTSTART;TZID=Europe/Berlin:20250730T100000
DTEND;TZID=Europe/Berlin:20250730T113000
DTSTAMP:20260426T053717
CREATED:20250725T191109Z
LAST-MODIFIED:20250725T191109Z
UID:1999-1753869600-1753875000@naturstation.com
SUMMARY:Ostsee-Entdecker
DESCRIPTION:Ostseeprogramm25
URL:https://naturstation.com/veranstaltung/ostsee-entdecker-3/
LOCATION:Naturstation Fischerkaten\, Strandzugang Nr. 5\, Groß Schwansee\, 23942\, Germany
ATTACH;FMTTYPE=application/pdf:https://naturstation.com/wp-content/uploads/2025/07/Ostseeprogramm25-1.pdf
END:VEVENT
END:VCALENDAR